BEGIN:VCALENDAR
PRODID:-//eluceo/ical//2.0/EN
VERSION:2.0
CALSCALE:GREGORIAN
BEGIN:VEVENT
UID:ea2e122b26b17180504192bbdde9da08
DTSTAMP:20260425T235331Z
SUMMARY:Stavermann Kärchercenter Münster zieht um – neuer Standort bün
 delt Kompetenzen für noch besseren Service
DESCRIPTION:Das Kärchercenter Münster der Stavermann GmbH ist umgezogen u
 nd startet am neuen Standort mit erweitertem Angebot und verbessertem Serv
 ice.
DTSTART;VALUE=DATE:20260122
LOCATION:Neuer Standort an der Rudolf-Diesel-Str. 39\, 48157 Münster
END:VEVENT
END:VCALENDAR
